Workbook

Sheet 總計
A1: 著作權管理相關案件統計表
A2: 年度 | B2: 申請 件數 | C2: 核准 (許可) 件數 | D2: 不准 (不予許可)件數 | E2: 駁回 件數
A3: 97年 | B3: 43349 | C3: 43344 | D3: 1 | E3: 2
A4: 98年 | B4: 41656 | C4: 41655 | D4: 1 | E4: 0
A5: 99年 | B5: 43976 | C5: 43801 | D5: 0 | E5: 5
A6: 100年 | B6: 41677 | C6: 40856 | D6: 0 | E6: 17
A7: 101年 | B7: 39558 | C7: 39301 | D7: 1 | E7: 21
A8: 102年 | B8: 35501 | C8: 35278 | D8: 1 | E8: 40
A9: 103年 | B9: 33302 | C9: 33086 | D9: 0 | E9: 12
A10: 104年 | B10: 28289 | C10: 28231 | D10: 26 | E10: 12
A11: 105年 | B11: 26913 | C11: 26308 | D11: 6 | E11: 11
A12: 106年 | B12: 3630 | C12: 4081 | D12: 2 | E12: 3
A13: 107年 | B13: 13 | C13: 5 | D13: 0 | E13: 3
A14: 108年 | B14: 69 | C14: 48 | D14: 13 | E14: 0
... A16: 110年 | B16: 11 | C16: 6 | D16: 0 | E16: 0
A17: 111年 | B17: =製版權登記!B17+音樂著作強制授權!B17+著作權集管團體!B14+著作財產權質權登記!B14+著作財產權人不明著作利用之許可授權申請!B14 -> 72 | C17: =製版權登記!C17+音樂著作強制授權!C17+著作權集管團體!C14+著作財產權質權登記!C14+著作財產權人不明著作利用之許可授權申請!C14 -> 34 | D17: =製版權登記!D17+音樂著作強制授權!D17+著作權集管團體!D14+著作財產權質權登記!D14+著作財產權人不明著作利用之許可授權申請!D14 -> 1 | E17: =製版權登記!E17+音樂著作強制授權!E17+著作權集管團體!E14+著作財產權質權登記!E14+著作財產權人不明著作利用之許可授權申請!E14 -> 1
A18: 112年 | B18: =製版權登記!B18+音樂著作強制授權!B18+著作權集管團體!B15+著作財產權質權登記!B15+著作財產權人不明著作利用之許可授權申請!B15 -> 20 | C18: =製版權登記!C18+音樂著作強制授權!C18+著作權集管團體!C15+著作財產權質權登記!C15+著作財產權人不明著作利用之許可授權申請!C15 -> 39 | D18: =製版權登記!D18+音樂著作強制授權!D18+著作權集管團體!D15+著作財產權質權登記!D15+著作財產權人不明著作利用之許可授權申請!D15 -> 0 | E18: =製版權登記!E18+音樂著作強制授權!E18+著作權集管團體!E15+著作財產權質權登記!E15+著作財產權人不明著作利用之許可授權申請!E15 -> 0
A19: 113年 | B19: =製版權登記!B19+音樂著作強制授權!B19+著作權集管團體!B16+著作財產權質權登記!B16+著作財產權人不明著作利用之許可授權申請!B16 -> 41 | C19: =製版權登記!C19+音樂著作強制授權!C19+著作權集管團體!C16+著作財產權質權登記!C16+著作財產權人不明著作利用之許可授權申請!C16 -> 37 | D19: =製版權登記!D19+音樂著作強制授權!D19+著作權集管團體!D16+著作財產權質權登記!D16+著作財產權人不明著作利用之許可授權申請!D16 -> 0 | E19: =製版權登記!E19+音樂著作強制授權!E19+著作權集管團體!E16+著作財產權質權登記!E16+著作財產權人不明著作利用之許可授權申請!E16 -> 1
A20: 114年 | B20: =製版權登記!B20+音樂著作強制授權!B20+著作權集管團體!B17+著作財產權質權登記!B17+著作財產權人不明著作利用之許可授權申請!B17 -> 11 | C20: =製版權登記!C20+音樂著作強制授權!C20+著作權集管團體!C17+著作財產權質權登記!C17+著作財產權人不明著作利用之許可授權申請!C17 -> 4 | D20: =製版權登記!D20+音樂著作強制授權!D20+著作權集管團體!D17+著作財產權質權登記!D17+著作財產權人不明著作利用之許可授權申請!D17 -> 0 | E20: =製版權登記!E20+音樂著作強制授權!E20+著作權集管團體!E17+著作財產權質權登記!E17+著作財產權人不明著作利用之許可授權申請!E17 -> 1
A21: 總計 | B21: =SUM(B3:B20) -> 338105 | C21: =SUM(C3:C20) -> 336330 | D21: =SUM(D3:D20) -> 56 | E21: =SUM(E3:E20) -> 130
A23: 備註說明： | B23: 106年1月18日經濟部令廢止「輸出視聽著作及代工鐳射唱片申請核驗著作權文件作業要點」，並自中華民國106年3月1日生效，即自106年3月1日起不再受理核驗著作權文件業務。

Sheet 製版權登記
A1: 製版權登記統計表
A2: 年度 | B2: 申請 件數 | C2: 核准 (許可) 件數 | D2: 不准 (不予許可) 件數 | E2: 駁回 件數
A3: 97年 | B3: 3 | C3: 0 | D3: 0 | E3: 1
A4: 98年 | B4: 0 | C4: 0 | D4: 0 | E4: 0
A5: 99年 | B5: 2 | C5: 0 | D5: 0 | E5: 0
A6: 100年 | B6: 0 | C6: 0 | D6: 0 | E6: 0
A7: 101年 | B7: 1 | C7: 0 | D7: 0 | E7: 0
A8: 102年 | B8: 1 | C8: 1 | D8: 0 | E8: 0
A9: 103年 | B9: 0 | C9: 0 | D9: 0 | E9: 0
A10: 104年 | B10: 0 | C10: 0 | D10: 0 | E10: 0
A11: 105年 | B11: 2 | C11: 0 | D11: 0 | E11: 1
A12: 106年 | B12: 1 | C12: 0 | D12: 0 | E12: 0
A13: 107年 | B13: 0 | C13: 0 | D13: 0 | E13: 0
A14: 108年 | B14: 1 | C14: 0 | D14: 0 | E14: 0
... A20: 114年 | B20: 0 | C20: 0 | D20: 0 | E20: 0
A21: 總計 | B21: =SUM(B3:B20) -> 14 | C21: =SUM(C3:C20) -> 2 | D21: =SUM(D3:D20) -> 0 | E21: =SUM(E3:E20) -> 3

Sheet 音樂著作強制授權
A1: 音樂著作強制授權統計表
A2: 年度 | B2: 申請 件數 | C2: 核准 (許可) 件數 | D2: 不准 (不予許可) 件數 | E2: 駁回 件數
A3: 97年 | B3: 1 | C3: 0 | D3: 0 | E3: 0
A4: 98年 | B4: 1 | C4: 0 | D4: 0 | E4: 0
A5: 99年 | B5: 1 | C5: 0 | D5: 0 | E5: 0
A6: 100年 | B6: 6 | C6: 2 | D6: 0 | E6: 0
A7: 101年 | B7: 1 | C7: 1 | D7: 0 | E7: 0
A8: 102年 | B8: 1 | C8: 1 | D8: 0 | E8: 0
A9: 103年 | B9: 0 | C9: 0 | D9: 0 | E9: 0
A10: 104年 | B10: 66 | C10: 62 | D10: 0 | E10: 0
A11: 105年 | B11: 491 | C11: 18 | D11: 0 | E11: 0
A12: 106年 | B12: 0 | C12: 476 | D12: 0 | E12: 0
A13: 107年 | B13: 0 | C13: 0 | D13: 0 | E13: 0
A14: 108年 | B14: 0 | C14: 0 | D14: 0 | E14: 0
... A20: 114年 | B20: 0 | C20: 0 | D20: 0 | E20: 0
A21: 總計 | B21: =SUM(B3:B20) -> 569 | C21: =SUM(C3:C20) -> 768 | D21: =SUM(D3:D20) -> 0 | E21: =SUM(E3:E20) -> 0

Sheet 著作權集管團體
A1: 著作權集管團體統計表
A2: 年度 | B2: 申請 件數 | C2: 核准 (許可) 件數 | D2: 不准 (不予許可) 件數 | E2: 駁回 件數
A3: 100年 | B3: 1 | C3: 0 | D3: 0 | E3: 0
A4: 101年 | B4: 0 | C4: 0 | D4: 1 | E4: 0
A5: 102年 | B5: 1 | C5: 0 | D5: 1 | E5: 0
A6: 103年 | B6: 2 | C6: 0 | D6: 0 | E6: 0
A7: 104年 | B7: 0 | C7: 0 | D7: 1 | E7: 0
A8: 105年 | B8: 3 | C8: 0 | D8: 1 | E8: 0
A9: 106年 | B9: 5 | C9: 1 | D9: 0 | E9: 0
A10: 107年 | B10: 6 | C10: 0 | D10: 0 | E10: 0
A11: 108年 | B11: 14 | C11: 5 | D11: 1 | E11: 0
A12: 109年 | B12: 10 | C12: 8 | D12: 3 | E12: 0
A13: 110年 | B13: 4 | C13: 3 | D13: 0 | E13: 0
A14: 111年 | B14: 6 | C14: 6 | D14: 0 | E14: 0
... A17: 114年 | B17: 8 | C17: 4 | D17: 0 | E17: 0
A18: 總計 | B18: =SUM(B3:B17) -> 68 | C18: =SUM(C3:C17) -> 32 | D18: =SUM(D3:D17) -> 8 | E18: =SUM(E3:E17) -> 0

Sheet 著作財產權質權登記
A1: 著作財產權質權登記統計表
A2: 年度 | B2: 申請 件數 | C2: 核准 (許可) 件數 | D2: 不准 (不予許可) 件數 | E2: 駁回 件數
A3: 100年 | B3: 272 | C3: 1 | D3: 0 | E3: 0
A4: 101年 | B4: 6 | C4: 6 | D4: 0 | E4: 0
A5: 102年 | B5: 3 | C5: 3 | D5: 0 | E5: 0
A6: 103年 | B6: 1 | C6: 1 | D6: 0 | E6: 0
A7: 104年 | B7: 2 | C7: 2 | D7: 0 | E7: 0
A8: 105年 | B8: 0 | C8: 0 | D8: 0 | E8: 0
A9: 106年 | B9: 1 | C9: 0 | D9: 0 | E9: 0
A10: 107年 | B10: 0 | C10: 0 | D10: 0 | E10: 0
A11: 108年 | B11: 0 | C11: 0 | D11: 0 | E11: 0
A12: 109年 | B12: 0 | C12: 0 | D12: 0 | E12: 0
A13: 110年 | B13: 0 | C13: 0 | D13: 0 | E13: 0
A14: 111年 | B14: 0 | C14: 0 | D14: 0 | E14: 0
... A17: 114年 | B17: 0 | C17: 0 | D17: 0 | E17: 0
A18: 總計 | B18: =SUM(B3:B17) -> 288 | C18: =SUM(C3:C17) -> 16 | D18: =SUM(D3:D17) -> 0 | E18: =SUM(E3:E17) -> 0

Sheet 著作財產權人不明著作利用之許可授權申請
A1: 著作財產權人不明著作利用之許可授權申請統計表
A2: 年度 | B2: 申請 件數 | C2: 核准 (許可) 件數 | D2: 不准 (不予許可) 件數 | E2: 駁回 件數
A3: 100年 | B3: 0 | C3: 0 | D3: 0 | E3: 0
A4: 101年 | B4: 23 | C4: 0 | D4: 0 | E4: 0
A5: 102年 | B5: 20 | C5: 0 | D5: 0 | E5: 20
A6: 103年 | B6: 72 | C6: 19 | D6: 0 | E6: 1
A7: 104年 | B7: 3 | C7: 37 | D7: 25 | E7: 0
A8: 105年 | B8: 1 | C8: 6 | D8: 5 | E8: 0
A9: 106年 | B9: 3 | C9: 3 | D9: 2 | E9: 0
A10: 107年 | B10: 7 | C10: 5 | D10: 0 | E10: 3
A11: 108年 | B11: 54 | C11: 43 | D11: 12 | E11: 0
A12: 109年 | B12: 5 | C12: 0 | D12: 1 | E12: 0
A13: 110年 | B13: 5 | C13: 2 | D13: 0 | E13: 0
A14: 111年 | B14: 66 | C14: 28 | D14: 1 | E14: 1
... A17: 114年 | B17: 3 | C17: 0 | D17: 0 | E17: 1
A18: 總計 | B18: =SUM(B3:B17) -> 312 | C18: =SUM(C3:C17) -> 211 | D18: =SUM(D3:D17) -> 46 | E18: =SUM(E3:E17) -> 27
